{
 "currentVersion": 10.91,
 "serviceDescription": "RandolphOrthos2007",
 "name": "RandolphOrthos2007",
 "description": "",
 "extent": {
  "xmin": 1680000,
  "ymin": 640000,
  "xmax": 1840000,
  "ymax": 795000,
  "spatialReference": {
   "wkid": 103122,
   "latestWkid": 6543
  }
 },
 "initialExtent": {
  "xmin": 1680000,
  "ymin": 640000,
  "xmax": 1840000,
  "ymax": 795000,
  "spatialReference": {
   "wkid": 103122,
   "latestWkid": 6543
  }
 },
 "fullExtent": {
  "xmin": 1680000,
  "ymin": 640000,
  "xmax": 1840000,
  "ymax": 795000,
  "spatialReference": {
   "wkid": 103122,
   "latestWkid": 6543
  }
 },
 "hasMultidimensions": false,
 "pixelSizeX": 1,
 "pixelSizeY": 1,
 "datasetFormat": "MrSID",
 "uncompressedSize": 74400000000,
 "blockWidth": 1024,
 "blockHeight": 128,
 "compressionType": "Wavelet (MG3)",
 "bandNames": [
  "Band_1",
  "Band_2",
  "Band_3"
 ],
 "allowCopy": true,
 "allowAnalysis": true,
 "bandCount": 3,
 "pixelType": "U8",
 "minPixelSize": 0,
 "maxPixelSize": 0,
 "copyrightText": "",
 "serviceDataType": "esriImageServiceDataTypeRGB",
 "serviceSourceType": "esriImageServiceSourceTypeDataset",
 "minValues": [
  54,
  60,
  35
 ],
 "maxValues": [
  255,
  255,
  255
 ],
 "meanValues": [
  123.22168554297,
  117.02415056629,
  89.519487008661
 ],
 "stdvValues": [
  35.76671847761,
  36.893849698799,
  43.394792867017
 ],
 "objectIdField": "",
 "fields": [],
 "capabilities": "Mensuration,Image,Metadata",
 "defaultMosaicMethod": "Center",
 "allowedMosaicMethods": "",
 "sortField": "",
 "sortValue": null,
 "sortAscending": true,
 "mosaicOperator": "First",
 "defaultCompressionQuality": 75,
 "defaultResamplingMethod": "Bilinear",
 "maxImageHeight": 4100,
 "maxImageWidth": 15000,
 "allowRasterFunction": true,
 "rasterFunctionInfos": [
  {
   "name": "None",
   "description": "",
   "help": ""
  }
 ],
 "rasterTypeInfos": [
  {
   "name": "Raster Dataset",
   "description": "Supports all ArcGIS Raster Datasets",
   "help": ""
  }
 ],
 "mensurationCapabilities": "Basic",
 "hasHistograms": true,
 "hasColormap": false,
 "hasRasterAttributeTable": false,
 "minScale": 1000000,
 "maxScale": 500,
 "exportTilesAllowed": false,
 "supportsStatistics": false,
 "supportsAdvancedQueries": false,
 "editFieldsInfo": null,
 "ownershipBasedAccessControlForRasters": null,
 "allowComputeTiePoints": false,
 "useStandardizedQueries": true,
 "advancedQueryCapabilities": {
  "useStandardizedQueries": true,
  "supportsStatistics": false,
  "supportsOrderBy": false,
  "supportsDistinct": false,
  "supportsPagination": false
 },
 "spatialReference": {
  "wkid": 103122,
  "latestWkid": 6543
 }
}
