View In:
ArcGIS JavaScript
ArcGIS Online Map Viewer
ArcGIS Earth
ArcMap
ArcGIS Pro
View Footprint In:
ArcGIS Online Map Viewer
Service Description: <DIV STYLE="text-align:Left;font-size:12pt"><P><SPAN>This map is used to create RandolphBaseOrthos Tiled map services. It contains the latest orthophoto.</SPAN></P></DIV>
Map Name: RandolphBaseOrthos (Web Mercator)
Legend
All Layers and Tables
Dynamic Legend
Dynamic All Layers
Layers:
Description: <DIV STYLE="text-align:Left;font-size:12pt"><P><SPAN>This map is used to create RandolphBaseOrthos Tiled map services. It contains the latest orthophoto.</SPAN></P></DIV>
Service Item Id: 68a6dbd4d86e41dabe0a46d9777a77aa
Copyright Text: Randolph County, NC
Spatial Reference:
102100
(3857)
LatestVCSWkid(0)
Single Fused Map Cache: true
Tile Info:
- Height: 256.0
- Width: 256.0
- DPI: 96.0
-
Levels of Detail: 25
-
Level ID: 1
[ Start Tile, End Tile ]
- Resolution: 78271.5169639999
- Scale: 2.95828763795777E8
-
Level ID: 2
[ Start Tile, End Tile ]
- Resolution: 39135.7584820001
- Scale: 1.47914381897889E8
-
Level ID: 3
[ Start Tile, End Tile ]
- Resolution: 19567.8792409999
- Scale: 7.3957190948944E7
-
Level ID: 4
[ Start Tile, End Tile ]
- Resolution: 9783.93962049996
- Scale: 3.6978595474472E7
-
Level ID: 5
[ Start Tile, End Tile ]
- Resolution: 4891.96981024998
- Scale: 1.8489297737236E7
- Format: Mixed
- Compression Quality: 75.0
- Origin: X: -2.0037508342787E7
Y: 2.0037508342787E7
- Spatial Reference: 102100
(3857)
LatestVCSWkid(0)
Storage Info:
- Storage Format: esriMapCacheStorageModeCompactV2
- Packet Size: 128
Initial Extent:
XMin: -8938302.652139112
YMin: 4223759.231688779
XMax: -8824760.24333113
YMax: 4299126.2032199
Spatial Reference: 102100
(0)
LatestVCSWkid(0)
Full Extent:
XMin: -8918345.314159261
YMin: 4228754.491656322
XMax: -8850328.919559151
YMax: 4293336.534416413
Spatial Reference: 102100
(0)
LatestVCSWkid(0)
Units: esriMeters
Supported Image Format Types: PNG32,PNG24,PNG,JPG,DIB,TIFF,EMF,PS,PDF,GIF,SVG,SVGZ,BMP
Document Info:
Title: Randolph County Ortho Basemap
Author:
Comments: <DIV STYLE="text-align:Left;font-size:12pt"><P><SPAN>This map is used to create RandolphBaseOrthos Tiled map services. It contains the latest orthophoto.</SPAN></P></DIV>
Subject: Map to produce Jurisdiction Base Map for Enterprise ArcGIS.
Category:
Keywords: Randolph County,NC,Highways,City Limits,Latest Aerial Photos
AntialiasingMode: None
TextAntialiasingMode: Force
Supports Dynamic Layers: true
MaxRecordCount: 2000
MaxImageHeight: 4096
MaxImageWidth: 4096
Supported Query Formats: JSON, geoJSON, PBF
Supports Query Data Elements: true
Min Scale: 577790.554289
Max Scale: 282.124294
Min LOD: 10
Max LOD: 20
Supports Datum Transformation: true
Child Resources:
Info
Dynamic Layer
Supported Operations:
Export Map
QueryLegends
Return Updates