View In:
ArcGIS JavaScript
ArcGIS Online Map Viewer
ArcGIS Earth
ArcMap
View Footprint In:
ArcGIS Online Map Viewer
Service Description: RandolphOrthos2010
Name: RandolphOrthos2010
Description:
Single Fused Map Cache: false
Extent:
XMin: 1680000.0
YMin: 640000.0
XMax: 1840000.0
YMax: 795000.0
Spatial Reference: 103122
(6543)
LatestVCSWkid(0)
Initial Extent:
XMin: 1680000.0
YMin: 640000.0
XMax: 1840000.0
YMax: 795000.0
Spatial Reference: 103122
(6543)
LatestVCSWkid(0)
Full Extent:
XMin: 1680000.0
YMin: 640000.0
XMax: 1840000.0
YMax: 795000.0
Spatial Reference: 103122
(6543)
LatestVCSWkid(0)
Pixel Size X: 0.5
Pixel Size Y: 0.5
Band Count: 3
Pixel Type: U8
RasterFunction Infos: {"rasterFunctionInfos": [{
"name": "None",
"description": "",
"help": ""
}]}
Mensuration Capabilities: Basic
Has Histograms: true
Has Colormap: false
Has Multi Dimensions : false
Rendering Rule:
Min Scale: 500000
Max Scale: 500
Copyright Text:
Service Data Type: esriImageServiceDataTypeRGB
Min Values: 28, 44, 39
Max Values: 255, 255, 255
Mean Values: 98.35709526982, 102.31778814124, 88.462191872085
Standard Deviation Values: 43.988139617465, 42.10869484936, 44.13824811085
Object ID Field:
Fields:
None
Default Mosaic Method: Center
Allowed Mosaic Methods:
SortField:
SortValue: null
Mosaic Operator: First
Default Compression Quality: 75
Default Resampling Method: Bilinear
Max Record Count: null
Max Image Height: 4100
Max Image Width: 15000
Max Download Image Count: null
Max Mosaic Image Count: null
Allow Raster Function: true
Allow Copy: true
Allow Analysis: true
Allow Compute TiePoints: false
Supports Statistics: false
Supports Advanced Queries: false
Use StandardizedQueries: true
Raster Type Infos:
Name: Raster Dataset
Description: Supports all ArcGIS Raster Datasets
Help:
Has Raster Attribute Table: false
Edit Fields Info: null
Ownership Based AccessControl For Rasters: null
Child Resources:
Info
Histograms
Statistics
Key Properties
Legend
Raster Function Infos
Supported Operations:
Export Image
Identify
Measure
Compute Histograms
Compute Statistics Histograms
Get Samples
Compute Class Statistics
Query Boundary
Compute Pixel Location
Compute Angles
Validate
Project